BEGIN:VCALENDAR
VERSION:2.0
PRODID:gruene-kronshagen.de
METHOD:PUBLISH
BEGIN:VTIMEZONE
TZID:Europe/Berlin
X-LIC-LOCATION:Europe/Berlin
BEGIN:DAYLIGHT
TZOFFSETFROM:+0100
TZOFFSETTO:+0200
TZNAME:CEST
DTSTART:19700329T020000
RRULE:FREQ=YEARLY;INTERVAL=1;BYDAY=-1SU;BYMONTH=3
END:DAYLIGHT
BEGIN:STANDARD
TZOFFSETFROM:+0200
TZOFFSETTO:+0100
TZNAME:CET
DTSTART:19701025T030000
RRULE:FREQ=YEARLY;INTERVAL=1;BYDAY=-1SU;BYMONTH=10
END:STANDARD
END:VTIMEZONE
BEGIN:VEVENT
UID:7b9c6c0a0bfcf64be5495e93e9f80cdd@gruene-kronshagen.de
URL;VALUE=URI:https://gruene-kronshagen.de/termine/pflanzenflohmarkt-frue
 hjahr-2026
LOCATION:
SUMMARY:Pflanzenflohmarkt Frühjahr 2026
DESCRIPTION;ALTREP="data:text/html,":
CLASS:PUBLIC
DTSTART;TZID=Europe/Berlin:20260426T090000
DTEND;TZID=Europe/Berlin:20260426T130000
DTSTAMP:20260420T033201
END:VEVENT
BEGIN:VEVENT
UID:ad83217a5887c8c1ed21853c146a818e@gruene-kronshagen.de
URL;VALUE=URI:https://gruene-kronshagen.de/termine/strassenflohmarkt-2026
LOCATION:
SUMMARY:Strassenflohmarkt 2026
DESCRIPTION;ALTREP="data:text/html,":
CLASS:PUBLIC
DTSTART;TZID=Europe/Berlin:20260614T100000
DTEND;TZID=Europe/Berlin:20260614T170000
DTSTAMP:20260420T033201
END:VEVENT
BEGIN:VEVENT
UID:e73a2c1c30e1febfc943ff533178b39e@gruene-kronshagen.de
URL;VALUE=URI:https://gruene-kronshagen.de/termine/pflanzenflohmarkt-herb
 st-2026
LOCATION:
SUMMARY:Pflanzenflohmarkt Herbst 2026
DESCRIPTION;ALTREP="data:text/html,":
CLASS:PUBLIC
DTSTART;TZID=Europe/Berlin:20260927T090000
DTEND;TZID=Europe/Berlin:20260927T130000
DTSTAMP:20260420T033201
END:VEVENT
END:VCALENDAR